BEGIN:VCALENDAR
VERSION:2.0
PRODID:-//TŠC Maribor - ECPv4.5.13//NONSGML v1.0//EN
CALSCALE:GREGORIAN
METHOD:PUBLISH
X-WR-CALNAME:TŠC Maribor
X-ORIGINAL-URL:https://www.tscmb.si
X-WR-CALDESC:Events for TŠC Maribor
BEGIN:VEVENT
DTSTART;TZID=UTC+2:20240531T110000
DTEND;TZID=UTC+2:20240531T112000
DTSTAMP:20260420T203954
CREATED:20240508T073145Z
LAST-MODIFIED:20240523T073929Z
UID:25865-1717153200-1717154400@www.tscmb.si
SUMMARY:TVU 2024 - Branje skupaj - za znanje in zabavo
DESCRIPTION:Izvedba: TŠC Maribor\, Anka Jemenšek\nDELAVNICA JE NAMENJENA ZAPOSLENIM NA TŠC MARIBOR\nKratek opis dogodka: Branje skupaj prinaša številne prednosti\, tako za posameznike kot tudi za skupino. Prednosti branja skupaj so: povezovanje\, motivacija\, razširjanje obzorij\, učenje\, spodbuda k refleksiji in vse to lahko pozitivno vpliva na posameznike in skupnosti kot celoto.\nNa delavnicah boste izvedeli:\n– kakšne so prednosti branja skupaj\n– kje vse lahko beremo\n– kaj je interaktivno branje\n– kakšne so tehnike učinkovitega branja\n– kako motivirati k branju Predavanje je namenjeno zaposlenim na šoli. \nDatum izvedbe: ob petkih\, 24. 5. 2024\, 31. 5. 2024 in 7. 6. 2024 od 11.00 do 11.20 v predavalnici A016\nOBVEZNE PRIJAVE\n
URL:https://www.tscmb.si/dogodek/tvu-2024-branje-skupaj-za-znanje-in-zabavo-2/
CATEGORIES:MIC
ORGANIZER;CN="T%C5%A0C%20Maribor":MAILTO:info@tscmb.si
END:VEVENT
END:VCALENDAR