BEGIN:VCALENDAR
VERSION:2.0
PRODID:-//TŠC Maribor - ECPv4.5.13//NONSGML v1.0//EN
CALSCALE:GREGORIAN
METHOD:PUBLISH
X-WR-CALNAME:TŠC Maribor
X-ORIGINAL-URL:https://www.tscmb.si
X-WR-CALDESC:Events for TŠC Maribor
BEGIN:VEVENT
DTSTART;TZID=UTC+2:20240522T140000
DTEND;TZID=UTC+2:20240522T163000
DTSTAMP:20260421T003817
CREATED:20240508T073338Z
LAST-MODIFIED:20240508T073338Z
UID:25869-1716386400-1716395400@www.tscmb.si
SUMMARY:TVU 2024 - Umetna inteligenca v praksi
DESCRIPTION:Izvedba: Radovan Krajnc\, ZRSŠ OE MB\nDELAVNICA JE NAMENJENA ZAPOSLENIM NA TŠC MARIBOR\nKratek opis dogodka: Na delavnici bodo udeleženci spoznali potencial generativne umetne inteligence\, s posebnim poudarkom na velikih jezikovnih modelih\, kot so ChatGPT\, Gemini in Copilot. Udeleženci se bodo seznanili s praktičnimi načini uporabe teh orodij za pripravo pouka\, izdelavo učnih gradiv in oblikovanjem interaktivnih učnih dejavnosti.\n \nDatum izvedbe: sreda\, 22. 5. 2024 od 13.00 do 15.30 v predavalnici B110\n
URL:https://www.tscmb.si/dogodek/tvu-2024-umetna-inteligenca-v-praksi/
CATEGORIES:MIC
ORGANIZER;CN="T%C5%A0C%20Maribor":MAILTO:info@tscmb.si
END:VEVENT
END:VCALENDAR