BEGIN:VCALENDAR
VERSION:2.0
PRODID:-//TŠC Maribor - ECPv4.5.13//NONSGML v1.0//EN
CALSCALE:GREGORIAN
METHOD:PUBLISH
X-WR-CALNAME:TŠC Maribor
X-ORIGINAL-URL:https://www.tscmb.si
X-WR-CALDESC:Events for TŠC Maribor
BEGIN:VEVENT
DTSTART;TZID=UTC+2:20241022T081500
DTEND;TZID=UTC+2:20241022T100000
DTSTAMP:20260420T195019
CREATED:20241007T081838Z
LAST-MODIFIED:20241007T081838Z
UID:26740-1729584900-1729591200@www.tscmb.si
SUMMARY:Učenje učenja (1.b/2\, 1.e/2)
DESCRIPTION:\n
URL:https://www.tscmb.si/dogodek/ucenje-ucenja-1-b-2-1-e-2/
CATEGORIES:Srednja šola
ORGANIZER;CN="T%C5%A0C%20Maribor":MAILTO:info@tscmb.si
END:VEVENT
END:VCALENDAR