BEGIN:VCALENDAR
VERSION:2.0
PRODID:-//TŠC Maribor - ECPv4.5.13//NONSGML v1.0//EN
CALSCALE:GREGORIAN
METHOD:PUBLISH
X-WR-CALNAME:TŠC Maribor
X-ORIGINAL-URL:https://www.tscmb.si
X-WR-CALDESC:Events for TŠC Maribor
BEGIN:VEVENT
DTSTART;VALUE=DATE:20210913
DTEND;VALUE=DATE:20210915
DTSTAMP:20260419T150546
CREATED:20210910T100549Z
LAST-MODIFIED:20210913T095321Z
UID:19829-1631494800-1631667599@www.tscmb.si
SUMMARY:Uradne ure referata
DESCRIPTION:Referat na VSŠ TŠC Maribor bo v ponedeljek\, 13.9. in torek\, 14.9.2021 izjemoma zaprt. \n
URL:https://www.tscmb.si/dogodek/uradne-ure-referata-2/
CATEGORIES:Višja strokovna šola
ORGANIZER;CN="T%C5%A0C%20Maribor%2C%20Vi%C5%A1ja%20strokovna%20%C5%A1ola":MAILTO:referat@tscmb.si
END:VEVENT
END:VCALENDAR