BEGIN:VCALENDAR
VERSION:2.0
PRODID:-//TŠC Maribor - ECPv4.5.13//NONSGML v1.0//EN
CALSCALE:GREGORIAN
METHOD:PUBLISH
X-WR-CALNAME:TŠC Maribor
X-ORIGINAL-URL:https://www.tscmb.si
X-WR-CALDESC:Events for TŠC Maribor
BEGIN:VEVENT
DTSTART;TZID=UTC+2:20241001T110000
DTEND;TZID=UTC+2:20241001T120000
DTSTAMP:20260421T050306
CREATED:20240926T180117Z
LAST-MODIFIED:20240926T180117Z
UID:26653-1727780400-1727784000@www.tscmb.si
SUMMARY:Uvodna ura za študente STR1 (redni študij)
DESCRIPTION:Spoštovani študenti in študentke! \nV torek\, 1. oktobra 2024 se začne 1. semester novega študijskega leta 2024/25 za 1. letnik rednega študijskega programa Strojništvo. \nUvodna ura glede na letnik/program: \n\nStrojništvo\, 1. letnik: torek\, 1. oktobra 2024 ob 11.00 v predavalnici A308 (mag. Samo Čretnik)\n\nPo končani uvodni uri poteka delitev v skupine za laboratorijske vaje in predmet Mehanika 1 (mag. Leon Pernat) po urniku . \nŽelimo Vam uspešen začetek novega študijskega leta 2024/25! \n
URL:https://www.tscmb.si/dogodek/uvodna-ura-za-studente-str1-redni-studij/
LOCATION:Zolajeva ulica 12\, Maribor\, 2000\, Slovenija
CATEGORIES:Višja strokovna šola
ORGANIZER;CN="T%C5%A0C%20Maribor%2C%20Vi%C5%A1ja%20strokovna%20%C5%A1ola":MAILTO:referat@tscmb.si
END:VEVENT
END:VCALENDAR