BEGIN:VCALENDAR
VERSION:2.0
PRODID:-//TŠC Maribor - ECPv4.5.13//NONSGML v1.0//EN
CALSCALE:GREGORIAN
METHOD:PUBLISH
X-WR-CALNAME:TŠC Maribor
X-ORIGINAL-URL:https://www.tscmb.si
X-WR-CALDESC:Events for TŠC Maribor
BEGIN:VEVENT
DTSTART;TZID=UTC+2:20231009T171000
DTEND;TZID=UTC+2:20231009T180000
DTSTAMP:20260420T130637
CREATED:20230929T083638Z
LAST-MODIFIED:20231009T121623Z
UID:24338-1696871400-1696874400@www.tscmb.si
SUMMARY:Uvodni sestanek za izredne študente VSŠ
DESCRIPTION:Za študente izrednega študijskega programa Strojništvo sklicujemo uvodni sestanek ob 16.10 v učilnici A302 (objekt A – 3. nadstropje). Uvodna ura bo trajala cca. 30 – 45 minut. \nV sredo\, 11. oktobra 2023 se začnejo prva predavanja v študijskem letu 2023/24 za izredni študijski program Strojništvo. Urnik za izredni študij je objavljen\, lahko si ga natisnete ali uporabljate spletno verzijo urnika. \n
URL:https://www.tscmb.si/dogodek/uvodni-sestanek-za-izredne-studente-vss/
CATEGORIES:Višja strokovna šola
ORGANIZER;CN="T%C5%A0C%20Maribor%2C%20Vi%C5%A1ja%20strokovna%20%C5%A1ola":MAILTO:referat@tscmb.si
END:VEVENT
END:VCALENDAR