BEGIN:VCALENDAR
VERSION:2.0
PRODID:-//TŠC Maribor - ECPv4.5.13//NONSGML v1.0//EN
CALSCALE:GREGORIAN
METHOD:PUBLISH
X-WR-CALNAME:TŠC Maribor
X-ORIGINAL-URL:https://www.tscmb.si
X-WR-CALDESC:Events for TŠC Maribor
BEGIN:VEVENT
DTSTART;TZID=UTC+2:20230921T090000
DTEND;TZID=UTC+2:20230921T180000
DTSTAMP:20260419T183257
CREATED:20230921T114537Z
LAST-MODIFIED:20240116T090035Z
UID:24231-1695286800-1695319200@www.tscmb.si
SUMMARY:VRSTNI RED ZAGOVORA DIPLOMSKIH NALOG
DESCRIPTION:VRSTNI RED ZAGOVORA DIPLOMSKIH NALOG  v torek\, 26.9.2023\, ob 14:30 uri \n \n
URL:https://www.tscmb.si/dogodek/vrstni-red-zagovora-diplomskih-nalog/
CATEGORIES:Višja strokovna šola
ORGANIZER;CN="T%C5%A0C%20Maribor":MAILTO:info@tscmb.si
END:VEVENT
END:VCALENDAR