BEGIN:VCALENDAR
VERSION:2.0
PRODID:-//TŠC Maribor - ECPv4.5.13//NONSGML v1.0//EN
CALSCALE:GREGORIAN
METHOD:PUBLISH
X-WR-CALNAME:TŠC Maribor
X-ORIGINAL-URL:https://www.tscmb.si/en
X-WR-CALDESC:Events for TŠC Maribor
BEGIN:VEVENT
DTSTART;VALUE=DATE:20190930
DTEND;VALUE=DATE:20191001
DTSTAMP:20260420T185047
CREATED:20190927T084851Z
LAST-MODIFIED:20190927T090820Z
UID:15019-1569805200-1569891599@www.tscmb.si
SUMMARY:(Slovenian) Zadnji dan za vpis na VSŠ (redni študij)
DESCRIPTION:Sorry\, this entry is only available in Slovenian. \n
URL:https://www.tscmb.si/en/dogodek/zadnji-dan-za-vpis-na-vss-za-redni-studij-2019/
CATEGORIES:Višja strokovna šola
ORGANIZER;CN="T%C5%A0C%20Maribor%2C%20Vi%C5%A1ja%20strokovna%20%C5%A1ola":MAILTO:referat@tscmb.si
END:VEVENT
END:VCALENDAR