BEGIN:VCALENDAR
VERSION:2.0
PRODID:-//TŠC Maribor - ECPv4.5.13//NONSGML v1.0//EN
CALSCALE:GREGORIAN
METHOD:PUBLISH
X-WR-CALNAME:TŠC Maribor
X-ORIGINAL-URL:https://www.tscmb.si
X-WR-CALDESC:Events for TŠC Maribor
BEGIN:VEVENT
DTSTART;TZID=UTC+2:20221221T160000
DTEND;TZID=UTC+2:20221221T173000
DTSTAMP:20260420T124717
CREATED:20221212T123211Z
LAST-MODIFIED:20221212T123211Z
UID:22548-1671638400-1671643800@www.tscmb.si
SUMMARY:ZAGOVOR DIPLOM
DESCRIPTION:VRSTNI RED ZAGOVORA DIPLOMSKIH NALOG  v sredo\, 21.12.2022\, ob 15:00 uri\, v učilnici A 308 \n \n
URL:https://www.tscmb.si/dogodek/zagovor-diplom-7/
CATEGORIES:Višja strokovna šola
ORGANIZER;CN="T%C5%A0C%20Maribor":MAILTO:info@tscmb.si
END:VEVENT
END:VCALENDAR