BEGIN:VCALENDAR
VERSION:2.0
PRODID:-//TŠC Maribor - ECPv4.5.13//NONSGML v1.0//EN
CALSCALE:GREGORIAN
METHOD:PUBLISH
X-WR-CALNAME:TŠC Maribor
X-ORIGINAL-URL:https://www.tscmb.si
X-WR-CALDESC:Events for TŠC Maribor
BEGIN:VEVENT
DTSTART;TZID=UTC+2:20240924T140000
DTEND;TZID=UTC+2:20240924T170000
DTSTAMP:20260421T064123
CREATED:20240920T080333Z
LAST-MODIFIED:20240920T083651Z
UID:26598-1727186400-1727197200@www.tscmb.si
SUMMARY:Zagovor diplomskih nalog
DESCRIPTION:VRSTNI RED ZAGOVORA DIPLOMSKIH NALOG v torek\, 24. 9. 2024\, ob 14.00 uri\, v učilnici A 308 \n \n
URL:https://www.tscmb.si/dogodek/zagovor-diplomskih-nalog-33/
CATEGORIES:Višja strokovna šola
ORGANIZER;CN="T%C5%A0C%20Maribor%2C%20Vi%C5%A1ja%20strokovna%20%C5%A1ola":MAILTO:referat@tscmb.si
END:VEVENT
END:VCALENDAR