BEGIN:VCALENDAR
VERSION:2.0
PRODID:-//TŠC Maribor - ECPv4.5.13//NONSGML v1.0//EN
CALSCALE:GREGORIAN
METHOD:PUBLISH
X-WR-CALNAME:TŠC Maribor
X-ORIGINAL-URL:https://www.tscmb.si
X-WR-CALDESC:Events for TŠC Maribor
BEGIN:VEVENT
DTSTART;TZID=UTC+2:20181219T160000
DTEND;TZID=UTC+2:20181219T173000
DTSTAMP:20260420T113200
CREATED:20181217T143540Z
LAST-MODIFIED:20181219T143618Z
UID:12958-1545235200-1545240600@www.tscmb.si
SUMMARY:ZAGOVOR DIPLOMSKIH NALOG
DESCRIPTION:\nBlaž DOKL (A-R) (Obnova karoserije starodobnih vozil)\n\nKomisija:  \n\nSamo ČRETNIK – predsednik\nBoštjan ŽIGON – mentor\, član\nFranc JAKOPIČ – član\n\n\nDanijel KOLBIČ (A-R) (Analiza trka dveh vozil)\n\nKomisija:  \n\nFranc JAKOPIČ – predsednik\nBoštjan ŽIGON – mentor\, član\nSamo ČRETNIK – član\n\n\nBenjamin OČKO (S-R) (Izdelava stroja za zvijanje jeklenih palic)\n\n Komisija:  \n\nFranc JAKOPIČ – predsednik\nSamo ČRETNIK – mentor\, član\nBoštjan ŽIGON – član\n\n  \n
URL:https://www.tscmb.si/dogodek/zagovor-diplomskih-nalog-4/
CATEGORIES:Višja strokovna šola
END:VEVENT
END:VCALENDAR