BEGIN:VCALENDAR
VERSION:2.0
PRODID:-//TŠC Maribor - ECPv4.5.13//NONSGML v1.0//EN
CALSCALE:GREGORIAN
METHOD:PUBLISH
X-WR-CALNAME:TŠC Maribor
X-ORIGINAL-URL:https://www.tscmb.si
X-WR-CALDESC:Events for TŠC Maribor
BEGIN:VEVENT
DTSTART;TZID=UTC+2:20241125T120000
DTEND;TZID=UTC+2:20241125T143000
DTSTAMP:20260420T140515
CREATED:20241118T112852Z
LAST-MODIFIED:20241125T095227Z
UID:26968-1732536000-1732545000@www.tscmb.si
SUMMARY:Zagovori diplomskih nalog
DESCRIPTION: \n#cmsmasters_row_69e6329bca6de { \n	background-color:#f4f4f4;\n} \n\n#cmsmasters_row_69e6329bca6de .cmsmasters_row_outer_parent { \n	padding-top: 15px; \n} \n\n#cmsmasters_row_69e6329bca6de .cmsmasters_row_outer_parent { \n	padding-bottom: 10px; \n} \n\n#cmsmasters_row_69e6329bca6de .cmsmasters_row_inner.cmsmasters_row_fullwidth { \n	padding-left:3%; \n} \n#cmsmasters_row_69e6329bca6de .cmsmasters_row_inner.cmsmasters_row_fullwidth { \n	padding-right:3%; \n} \n \n#cmsmasters_row_69e6329bca973 { \n	background-color:#e1e1e1;\n} \n\n#cmsmasters_row_69e6329bca973 .cmsmasters_row_outer_parent { \n	padding-top: 15px; \n} \n\n#cmsmasters_row_69e6329bca973 .cmsmasters_row_outer_parent { \n	padding-bottom: 10px; \n} \n\n#cmsmasters_row_69e6329bca973 .cmsmasters_row_inner.cmsmasters_row_fullwidth { \n	padding-left:3%; \n} \n#cmsmasters_row_69e6329bca973 .cmsmasters_row_inner.cmsmasters_row_fullwidth { \n	padding-right:3%; \n} \n\n\n\n\n\n\n\nSKUPINA 1\, pričetek ob 12.00h v učilnici C 111\n\nMarcel LEŠNJAK ČIZMAŠIJA (S – I)  (MONTAŽA ROBOTSKE CELICE V PODJETJU)\n\nKomisija:  \n\nDragan GOGIĆ\, mag. – predsednik\nmag. Leon PERNAT – mentor\, član\nmag. Leon ŠUNTNER – član\n\n\n\nŽan MUJAGIĆ (S – R)  (REŠEVANJE REKLAMACIJ IN KAKOVOST V PODJETJU ODELO SLOVENIJA)\n\nKomisija:  \n\nDragan GOGIĆ\, mag. – predsednik\nmag. Leon ŠUNTNER – mentor\, član\nmag. Leon PERNAT – član\n\n\n\n\n\n\n\n\n\n\n\n\n\n\n\nSKUPINA 2\, pričetek ob 13.30h v učilnici C 301\n\nDenis VUČKOVIĆ (S – I)  (OPTIMIZACIJA CNC REZKALNE PROIZVODNJE V PODJETJU STROJEGRADNJA VUČKO D. O. O.)\n\nKomisija:  \n\nmag. Samo ČRETNIK – predsednik\nDragan GOGIĆ\, mag. – mentor\, član\nmag. Leon ŠUNTNER – član\n\n\n\nRene NIKL (A – R) (OBNOVA IN PREDELAVA POGONSKEGA AGREGATA 1.8T AEB AUDI A4 B5 QUATTRO)\n\nKomisija:  \n\nmag. Leon ŠUNTNER – predsednik\nmag. Beno ARBITER – mentor\, član\nmag. Dragan GOGIĆ\, mag. – član\n\n\n\n\n\n\n\n\n\n
URL:https://www.tscmb.si/dogodek/zagovori-diplomskih-nalog-5/
LOCATION:Zolajeva ulica 12\, Maribor\, 2000\, Slovenija
CATEGORIES:Višja strokovna šola
ORGANIZER;CN="T%C5%A0C%20Maribor%2C%20Vi%C5%A1ja%20strokovna%20%C5%A1ola":MAILTO:referat@tscmb.si
END:VEVENT
END:VCALENDAR