BEGIN:VCALENDAR
VERSION:2.0
PRODID:-//TŠC Maribor - ECPv4.5.13//NONSGML v1.0//EN
CALSCALE:GREGORIAN
METHOD:PUBLISH
X-WR-CALNAME:TŠC Maribor
X-ORIGINAL-URL:https://www.tscmb.si
X-WR-CALDESC:Events for TŠC Maribor
BEGIN:VEVENT
DTSTART;VALUE=DATE:20190529
DTEND;VALUE=DATE:20190530
DTSTAMP:20260419T143443
CREATED:20190522T182400Z
LAST-MODIFIED:20190522T182400Z
UID:14334-1559091600-1559177999@www.tscmb.si
SUMMARY:Zdravstvena vzgoja - 2.a/1\, 2.b/1 in 2.c/1
DESCRIPTION:
URL:https://www.tscmb.si/dogodek/zdravstvena-vzgoja-2-a-1-2-b-1-in-2-c-1/
CATEGORIES:Srednja šola
END:VEVENT
END:VCALENDAR