BEGIN:VCALENDAR
VERSION:2.0
PRODID:-//TŠC Maribor - ECPv4.5.13//NONSGML v1.0//EN
CALSCALE:GREGORIAN
METHOD:PUBLISH
X-WR-CALNAME:TŠC Maribor
X-ORIGINAL-URL:https://www.tscmb.si
X-WR-CALDESC:Events for TŠC Maribor
BEGIN:VEVENT
DTSTART;TZID=UTC+2:20240612T150000
DTEND;TZID=UTC+2:20240612T163000
DTSTAMP:20260420T202947
CREATED:20240508T054859Z
LAST-MODIFIED:20240610T071711Z
UID:25855-1718204400-1718209800@www.tscmb.si
SUMMARY:TVU 2024 - Osnove digitalnega marketinga
DESCRIPTION:Izvedba: Julija Fras\, TŠC Maribor\nPredavanje \nKratek opis dogodka: Digitalni marketing se je razvil v vodilno marketinško strategijo na vseh področjih delovanja\, od malih podjetij do korporacij. Tudi šole s svojo prisotnostjo na socialnih omrežjih oglašujejo svoje dejavnosti in s tem pridobivajo na prepoznavnosti. Digitalni marketing uporablja enake principe kot tradicionalno trženje\, vendar v digitalnem prostoru. Izziv je\, kako izstopati iz množice\, pridobiti sledilce in posledično ustvariti skupnost. \nNa predavanju boste izvedeli: \n– kaj je digitalni marketing in njegove koristi\, \n– spoznali boste vrste vsebin in platforme za ustvarjanje\, \n– strategije za spremljanje odzivov in učinkovitosti\, \n– osvojili boste besedišče kot so “hashtag\, reel\, viral\, reach”\, \n– funkcije posameznih platform.\n \nDatum izvedbe: sreda\, 12. 6. 2024 od 15.00 do 16.30 v predavalnici B110.\nOBVEZNE PRIJAVE\n
URL:https://www.tscmb.si/dogodek/tvu-2024-osnove-digitalnega-marketinga/
CATEGORIES:MIC
ORGANIZER;CN="T%C5%A0C%20Maribor":MAILTO:info@tscmb.si
END:VEVENT
END:VCALENDAR