BEGIN:VCALENDAR
VERSION:2.0
PRODID:-//TŠC Maribor - ECPv4.5.13//NONSGML v1.0//EN
CALSCALE:GREGORIAN
METHOD:PUBLISH
X-WR-CALNAME:TŠC Maribor
X-ORIGINAL-URL:https://www.tscmb.si
X-WR-CALDESC:Events for TŠC Maribor
BEGIN:VEVENT
DTSTART;TZID=UTC+2:20250530T150000
DTEND;TZID=UTC+2:20250530T190000
DTSTAMP:20260420T000028
CREATED:20250520T065231Z
LAST-MODIFIED:20250520T125639Z
UID:28080-1748617200-1748631600@www.tscmb.si
SUMMARY:Pohod na Pečke iz Loga
DESCRIPTION:Pohod na Pečke iz Loga\nIzvedba: TŠC Maribor\, Metka Kodrin\nPOHOD JE NAMENJEN ZAPOSLENIM NA TŠC MARIBOR.\nKratek opis dogodka: Pečke so lahko dostopen in zadnje čase vse manj obiskan vrh\, ki se nahaja severno od glavnega grebena Pohorja na nadmorski višini 720 m. Razgled je zaradi dreves omejen\, lepo pa se vidi del Maribora in Kozjaka\, na drugi strani\, ob lepem vremenu tudi Koralpe / Golica v Avstriji. Na vrhu je lovska koča z mizami\, klopmi in igrali za otroke. Pot je po zahtevnosti lahka in vzpon traja v eno smer dobro uro. \nDatum izvedbe: petek\, 30. 5. 2025\, od 15.00 do 19.00\nOBVEZNE PRIJAVE NA: PRIJAVNICA\n
URL:https://www.tscmb.si/dogodek/pohod-na-pecke-iz-loga/
CATEGORIES:MIC
ORGANIZER;CN="T%C5%A0C%20Maribor":MAILTO:info@tscmb.si
END:VEVENT
END:VCALENDAR