BEGIN:VCALENDAR
VERSION:2.0
PRODID:-//TŠC Maribor - ECPv4.5.13//NONSGML v1.0//EN
CALSCALE:GREGORIAN
METHOD:PUBLISH
X-WR-CALNAME:TŠC Maribor
X-ORIGINAL-URL:https://www.tscmb.si
X-WR-CALDESC:Events for TŠC Maribor
BEGIN:VEVENT
DTSTART;TZID=UTC+2:20250610T150000
DTEND;TZID=UTC+2:20250610T160000
DTSTAMP:20260420T000027
CREATED:20250520T073414Z
LAST-MODIFIED:20250520T073414Z
UID:28084-1749567600-1749571200@www.tscmb.si
SUMMARY:Kritični pogled na digitalne tehnologije
DESCRIPTION:Kritični pogled na digitalne tehnologije\n\nIzvedba: Julija Fras\, TŠC Maribor\nPREDAVANJE\nKratek opis dogodka: Cilj predavanja:\nPrepoznati pasti digitalnih tehnologij in spoznati strategije za omejevanje posledic.\n• Kaj je”infobesity\, infoxication in information overload”?\n• Digitalna zasvojenost.\n• Digitalna (ne)pismenost.\n• Dezinformacije in preverjanje virov.\n• Kibernetska varnost in državljanska odgovornost.\n \nDatum izvedbe: torek\, 10. 6. 2025\, od 15.00 do 16.00 v predavalnici B110\nOBVEZNE PRIJAVE: PRIJAVNICA\n
URL:https://www.tscmb.si/dogodek/kriticni-pogled-na-digitalne-tehnologije/
CATEGORIES:MIC
ORGANIZER;CN="T%C5%A0C%20Maribor":MAILTO:info@tscmb.si
END:VEVENT
END:VCALENDAR