BEGIN:VCALENDAR
VERSION:2.0
PRODID:-//TŠC Maribor - ECPv4.5.13//NONSGML v1.0//EN
CALSCALE:GREGORIAN
METHOD:PUBLISH
X-WR-CALNAME:TŠC Maribor
X-ORIGINAL-URL:https://www.tscmb.si/en
X-WR-CALDESC:Events for TŠC Maribor
BEGIN:VEVENT
DTSTART;VALUE=DATE:20190425
DTEND;VALUE=DATE:20190426
DTSTAMP:20260420T131309
CREATED:20190418T172811Z
LAST-MODIFIED:20190422T172245Z
UID:14046-1556154000-1556240399@www.tscmb.si
SUMMARY:(Slovenian) 1.a/1  - knjižnica Tezno ; 1.b/1 - knjižnica Tezno in delavnica Učenje učenja
DESCRIPTION:
URL:https://www.tscmb.si/en/dogodek/1-a-1-in-1-b-1-knjiznica-tezno-in-delavnica-ucenje-ucenja/
CATEGORIES:Srednja šola
END:VEVENT
END:VCALENDAR