BEGIN:VCALENDAR
VERSION:2.0
PRODID:-//TŠC Maribor - ECPv4.5.13//NONSGML v1.0//EN
CALSCALE:GREGORIAN
METHOD:PUBLISH
X-WR-CALNAME:TŠC Maribor
X-ORIGINAL-URL:https://www.tscmb.si/en
X-WR-CALDESC:Events for TŠC Maribor
BEGIN:VEVENT
DTSTART;TZID=UTC+2:20231009T084000
DTEND;TZID=UTC+2:20231009T150000
DTSTAMP:20260420T202411
CREATED:20230929T082643Z
LAST-MODIFIED:20240116T090316Z
UID:24315-1696840800-1696863600@www.tscmb.si
SUMMARY:(Slovenian) (1.A/1 in 1.B/1) Muzej Narodne osvoboditve Maribor in staro mestno jedro
DESCRIPTION:Sorry\, this entry is only available in Slovenian. \n
URL:https://www.tscmb.si/en/dogodek/1-a-1-in-1-b-1-muzej-narodne-osvoboditve-maribor-in-staro-mestno-jedro/
CATEGORIES:Srednja šola
ORGANIZER;CN="T%C5%A0C%20Maribor":MAILTO:info@tscmb.si
END:VEVENT
END:VCALENDAR