BEGIN:VCALENDAR
VERSION:2.0
PRODID:-//TŠC Maribor - ECPv4.5.13//NONSGML v1.0//EN
CALSCALE:GREGORIAN
METHOD:PUBLISH
X-WR-CALNAME:TŠC Maribor
X-ORIGINAL-URL:https://www.tscmb.si/en
X-WR-CALDESC:Events for TŠC Maribor
BEGIN:VEVENT
DTSTART;VALUE=DATE:20190611
DTEND;VALUE=DATE:20190612
DTSTAMP:20260419T162115
CREATED:20190603T172300Z
LAST-MODIFIED:20190603T172300Z
UID:14395-1560214800-1560301199@www.tscmb.si
SUMMARY:(Slovenian) 1.c/1 - Botanični vrt Pivola
DESCRIPTION:
URL:https://www.tscmb.si/en/dogodek/1-c-1-botanicni-vrt-pivola/
CATEGORIES:Srednja šola
END:VEVENT
END:VCALENDAR