BEGIN:VCALENDAR
VERSION:2.0
PRODID:-//TŠC Maribor - ECPv4.5.13//NONSGML v1.0//EN
CALSCALE:GREGORIAN
METHOD:PUBLISH
X-WR-CALNAME:TŠC Maribor
X-ORIGINAL-URL:https://www.tscmb.si/en
X-WR-CALDESC:Events for TŠC Maribor
BEGIN:VEVENT
DTSTART;TZID=UTC+2:20191204T180000
DTEND;TZID=UTC+2:20191204T190000
DTSTAMP:20260420T022137
CREATED:20191125T182724Z
LAST-MODIFIED:20191125T182724Z
UID:16060-1575482400-1575486000@www.tscmb.si
SUMMARY:(Slovenian) Govorilne ure
DESCRIPTION:
URL:https://www.tscmb.si/en/dogodek/govorilne-ure-11/
CATEGORIES:Srednja šola
END:VEVENT
END:VCALENDAR