BEGIN:VCALENDAR
VERSION:2.0
PRODID:-//TŠC Maribor - ECPv4.5.13//NONSGML v1.0//EN
CALSCALE:GREGORIAN
METHOD:PUBLISH
X-WR-CALNAME:TŠC Maribor
X-ORIGINAL-URL:https://www.tscmb.si/en
X-WR-CALDESC:Events for TŠC Maribor
BEGIN:VEVENT
DTSTART;TZID=UTC+2:20191002T180000
DTEND;TZID=UTC+2:20191002T190000
DTSTAMP:20260420T201812
CREATED:20190930T102033Z
LAST-MODIFIED:20190930T102033Z
UID:15034-1570039200-1570042800@www.tscmb.si
SUMMARY:(Slovenian) Govorilne ure
DESCRIPTION:
URL:https://www.tscmb.si/en/dogodek/govorilne-ure-9/
CATEGORIES:Srednja šola
END:VEVENT
END:VCALENDAR