BEGIN:VCALENDAR
VERSION:2.0
PRODID:-//TŠC Maribor - ECPv4.5.13//NONSGML v1.0//EN
CALSCALE:GREGORIAN
METHOD:PUBLISH
X-WR-CALNAME:TŠC Maribor
X-ORIGINAL-URL:https://www.tscmb.si/en
X-WR-CALDESC:Events for TŠC Maribor
BEGIN:VEVENT
DTSTART;TZID=UTC+2:20240508T180000
DTEND;TZID=UTC+2:20240508T184500
DTSTAMP:20260420T210755
CREATED:20240507T040606Z
LAST-MODIFIED:20240507T040652Z
UID:25828-1715191200-1715193900@www.tscmb.si
SUMMARY:(Slovenian) 8. popoldanske govorilne ure 2023/24
DESCRIPTION:Sorry\, this entry is only available in Slovenian. \n
URL:https://www.tscmb.si/en/dogodek/https-www-tscmb-si-wp-content-uploads-2024-05-razpored-govorilnih-ur-po-razredih-maj-8-5-2024-pdf/
LOCATION:Zolajeva ulica 12\, Maribor\, 2000\, Slovenija
CATEGORIES:Srednja šola
ORGANIZER;CN="T%C5%A0C%20Maribor":MAILTO:info@tscmb.si
END:VEVENT
END:VCALENDAR