BEGIN:VCALENDAR
VERSION:2.0
PRODID:-//TŠC Maribor - ECPv4.5.13//NONSGML v1.0//EN
CALSCALE:GREGORIAN
METHOD:PUBLISH
X-WR-CALNAME:TŠC Maribor
X-ORIGINAL-URL:https://www.tscmb.si/en
X-WR-CALDESC:Events for TŠC Maribor
BEGIN:VEVENT
DTSTART;TZID=UTC+2:20251224T073000
DTEND;TZID=UTC+2:20251224T090000
DTSTAMP:20260419T174537
CREATED:20251130T195818Z
LAST-MODIFIED:20251130T195818Z
UID:29055-1766561400-1766566800@www.tscmb.si
SUMMARY:(Slovenian) ID: filmska predstava
DESCRIPTION:Sorry\, this entry is only available in Slovenian. \n
URL:https://www.tscmb.si/en/dogodek/id-filmska-predstava/
LOCATION:Loška ulica 13\, Maribor\, 2000\, Slovenija
CATEGORIES:Srednja šola
ORGANIZER;CN="T%C5%A0C%20Maribor":MAILTO:info@tscmb.si
END:VEVENT
END:VCALENDAR