BEGIN:VCALENDAR
VERSION:2.0
PRODID:-//TŠC Maribor - ECPv4.5.13//NONSGML v1.0//EN
CALSCALE:GREGORIAN
METHOD:PUBLISH
X-WR-CALNAME:TŠC Maribor
X-ORIGINAL-URL:https://www.tscmb.si/en
X-WR-CALDESC:Events for TŠC Maribor
BEGIN:VEVENT
DTSTART;TZID=UTC+2:20241107T074500
DTEND;TZID=UTC+2:20241107T120000
DTSTAMP:20260420T200930
CREATED:20241007T082938Z
LAST-MODIFIED:20241007T082938Z
UID:26756-1730965500-1730980800@www.tscmb.si
SUMMARY:(Slovenian) ID: Muzej narodne osvoboditve Maribor (1.c/2\, 1.d/2)
DESCRIPTION:Sorry\, this entry is only available in Slovenian. \n
URL:https://www.tscmb.si/en/dogodek/id-muzej-narodne-osvoboditve-maribor-1-c-2-1-d-2/
LOCATION:Trg svobode 1\, Maribor\, 2000\, Slovenija
CATEGORIES:Srednja šola
ORGANIZER;CN="T%C5%A0C%20Maribor":MAILTO:info@tscmb.si
END:VEVENT
END:VCALENDAR