BEGIN:VCALENDAR
VERSION:2.0
PRODID:-//TŠC Maribor - ECPv4.5.13//NONSGML v1.0//EN
CALSCALE:GREGORIAN
METHOD:PUBLISH
X-WR-CALNAME:TŠC Maribor
X-ORIGINAL-URL:https://www.tscmb.si/en
X-WR-CALDESC:Events for TŠC Maribor
BEGIN:VEVENT
DTSTART;TZID=UTC+2:20240919T080000
DTEND;TZID=UTC+2:20240919T140000
DTSTAMP:20260421T102530
CREATED:20240905T115552Z
LAST-MODIFIED:20240913T082924Z
UID:26457-1726732800-1726754400@www.tscmb.si
SUMMARY:(Slovenian) ID: MOS v Celju
DESCRIPTION:Sorry\, this entry is only available in Slovenian. \n
URL:https://www.tscmb.si/en/dogodek/interesne-dejavnosti-mos-v-celju-2/
LOCATION:Dečkova 1\, Celje\, 3000\, Slovenija
GEO:46.2398703;15.2720848
X-APPLE-STRUCTURED-LOCATION;VALUE=URI;X-ADDRESS=Dečkova 1 Celje 3000 Slovenija;X-APPLE-RADIUS=500;X-TITLE=Dečkova 1:geo:15.2720848,46.2398703
CATEGORIES:Srednja šola
ORGANIZER;CN="T%C5%A0C%20Maribor":MAILTO:info@tscmb.si
END:VEVENT
END:VCALENDAR