BEGIN:VCALENDAR
VERSION:2.0
PRODID:-//TŠC Maribor - ECPv4.5.13//NONSGML v1.0//EN
CALSCALE:GREGORIAN
METHOD:PUBLISH
X-WR-CALNAME:TŠC Maribor
X-ORIGINAL-URL:https://www.tscmb.si/en
X-WR-CALDESC:Events for TŠC Maribor
BEGIN:VEVENT
DTSTART;TZID=UTC+2:20221024T084500
DTEND;TZID=UTC+2:20221024T140000
DTSTAMP:20260420T152440
CREATED:20221017T072040Z
LAST-MODIFIED:20221017T072040Z
UID:22331-1666601100-1666620000@www.tscmb.si
SUMMARY:(Slovenian) Muzej narodne osvoboditve Maribor in staro mestno jedro (1.d/2\, 1.e/2)
DESCRIPTION:Sorry\, this entry is only available in Slovenian. \n
URL:https://www.tscmb.si/en/dogodek/muzej-narodne-osvoboditve-maribor-in-staro-mestno-jedro-1-d-2-1-e-2/
CATEGORIES:Srednja šola
ORGANIZER;CN="T%C5%A0C%20Maribor":MAILTO:info@tscmb.si
END:VEVENT
END:VCALENDAR