BEGIN:VCALENDAR
VERSION:2.0
PRODID:-//TŠC Maribor - ECPv4.5.13//NONSGML v1.0//EN
CALSCALE:GREGORIAN
METHOD:PUBLISH
X-WR-CALNAME:TŠC Maribor
X-ORIGINAL-URL:https://www.tscmb.si/en
X-WR-CALDESC:Events for TŠC Maribor
BEGIN:VEVENT
DTSTART;VALUE=DATE:20191203
DTEND;VALUE=DATE:20191204
DTSTAMP:20260420T022521
CREATED:20191126T183646Z
LAST-MODIFIED:20191126T183646Z
UID:16078-1575334800-1575421199@www.tscmb.si
SUMMARY:(Slovenian) Predstava Najstnica Neja in delavnice Na poti odraščanja
DESCRIPTION:
URL:https://www.tscmb.si/en/dogodek/predstava-najstnica-neja-in-delavnice-na-poti-odrascanja/
CATEGORIES:Srednja šola
END:VEVENT
END:VCALENDAR