BEGIN:VCALENDAR
VERSION:2.0
PRODID:-//TŠC Maribor - ECPv4.5.13//NONSGML v1.0//EN
CALSCALE:GREGORIAN
METHOD:PUBLISH
X-WR-CALNAME:TŠC Maribor
X-ORIGINAL-URL:https://www.tscmb.si/en
X-WR-CALDESC:Events for TŠC Maribor
BEGIN:VEVENT
DTSTART;TZID=UTC+2:20191123T083000
DTEND;TZID=UTC+2:20191123T133000
DTSTAMP:20260420T022540
CREATED:20191121T123107Z
LAST-MODIFIED:20191122T063703Z
UID:16013-1574497800-1574515800@www.tscmb.si
SUMMARY:(Slovenian) Predstavitev AMZS Centra vožnje z vključenim praktičnim prikazom
DESCRIPTION:Sorry\, this entry is only available in Slovenian. \n
URL:https://www.tscmb.si/en/dogodek/predstavitev-amzs-centra-voznje-z-vkljucenim-prakticnim-prikazom/
LOCATION:Čeplje 29b\, Vransko\, Slovenija
CATEGORIES:Višja strokovna šola
ORGANIZER;CN="T%C5%A0C%20Maribor%2C%20Vi%C5%A1ja%20strokovna%20%C5%A1ola":MAILTO:referat@tscmb.si
END:VEVENT
END:VCALENDAR