BEGIN:VCALENDAR
VERSION:2.0
PRODID:-//TŠC Maribor - ECPv4.5.13//NONSGML v1.0//EN
CALSCALE:GREGORIAN
METHOD:PUBLISH
X-WR-CALNAME:TŠC Maribor
X-ORIGINAL-URL:https://www.tscmb.si/en
X-WR-CALDESC:Events for TŠC Maribor
BEGIN:VEVENT
DTSTART;TZID=UTC+2:20240911T170000
DTEND;TZID=UTC+2:20240911T183000
DTSTAMP:20260421T122613
CREATED:20240906T093922Z
LAST-MODIFIED:20240906T094128Z
UID:26477-1726074000-1726079400@www.tscmb.si
SUMMARY:(Slovenian) RODITELJSKI SESTANKI ZA 2.\, 3. in 4. LETNIKE
DESCRIPTION:Sorry\, this entry is only available in Slovenian. \n
URL:https://www.tscmb.si/en/dogodek/roditeljski-sestanki-za-2-3-in-4-letnike-2/
LOCATION:Zolajeva ulica 12\, Maribor\, 2000\, Slovenija
CATEGORIES:Srednja šola
ORGANIZER;CN="T%C5%A0C%20Maribor":MAILTO:info@tscmb.si
END:VEVENT
END:VCALENDAR