BEGIN:VCALENDAR
VERSION:2.0
PRODID:-//TŠC Maribor - ECPv4.5.13//NONSGML v1.0//EN
CALSCALE:GREGORIAN
METHOD:PUBLISH
X-WR-CALNAME:TŠC Maribor
X-ORIGINAL-URL:https://www.tscmb.si/en
X-WR-CALDESC:Events for TŠC Maribor
BEGIN:VEVENT
DTSTART;TZID=UTC+2:20230913T180000
DTEND;TZID=UTC+2:20230913T190000
DTSTAMP:20260419T134309
CREATED:20230908T134756Z
LAST-MODIFIED:20230911T163539Z
UID:24114-1694628000-1694631600@www.tscmb.si
SUMMARY:(Slovenian) Roditeljski sestanki za 2.\, 3. in 4. letnike
DESCRIPTION:Sorry\, this entry is only available in Slovenian. \n
URL:https://www.tscmb.si/en/dogodek/roditeljski-sestanki-za-2-3-in-4-letnike/
LOCATION:Zolajeva ulica 12\, Maribor\, 2000\, Slovenija
CATEGORIES:Srednja šola
ORGANIZER;CN="T%C5%A0C%20Maribor":MAILTO:info@tscmb.si
END:VEVENT
END:VCALENDAR