BEGIN:VCALENDAR
VERSION:2.0
PRODID:-//TŠC Maribor - ECPv4.5.13//NONSGML v1.0//EN
CALSCALE:GREGORIAN
METHOD:PUBLISH
X-WR-CALNAME:TŠC Maribor
X-ORIGINAL-URL:https://www.tscmb.si/en
X-WR-CALDESC:Events for TŠC Maribor
BEGIN:VEVENT
DTSTART;TZID=UTC+2:20240126T100000
DTEND;TZID=UTC+2:20240126T110000
DTSTAMP:20260420T065618
CREATED:20240110T112853Z
LAST-MODIFIED:20240116T090133Z
UID:24747-1706263200-1706266800@www.tscmb.si
SUMMARY:(Slovenian) (STR1) Informativni dan za PRI
DESCRIPTION:Sorry\, this entry is only available in Slovenian. \n
URL:https://www.tscmb.si/en/dogodek/str1-informativni-dan-za-pri/
LOCATION:Zolajeva ulica 12\, Maribor\, 2000\, Slovenija
CATEGORIES:Višja strokovna šola
ORGANIZER;CN="T%C5%A0C%20Maribor%2C%20Vi%C5%A1ja%20strokovna%20%C5%A1ola":MAILTO:referat@tscmb.si
END:VEVENT
END:VCALENDAR