BEGIN:VCALENDAR
VERSION:2.0
PRODID:-//TŠC Maribor - ECPv4.5.13//NONSGML v1.0//EN
CALSCALE:GREGORIAN
METHOD:PUBLISH
X-WR-CALNAME:TŠC Maribor
X-ORIGINAL-URL:https://www.tscmb.si/en
X-WR-CALDESC:Events for TŠC Maribor
BEGIN:VEVENT
DTSTART;TZID=UTC+2:20190424T170000
DTEND;TZID=UTC+2:20190424T190000
DTSTAMP:20260420T113720
CREATED:20190416T085534Z
LAST-MODIFIED:20190416T085534Z
UID:14037-1556125200-1556132400@www.tscmb.si
SUMMARY:(Slovenian) (STR2)-Strokovna ekskurzija WEILER ABRASIVES d.o.o. - VSN
DESCRIPTION:Sorry\, this entry is only available in Slovenian. \n
URL:https://www.tscmb.si/en/dogodek/str2-strokovna-ekskurzija-weiler-abrasives-d-o-o-vsn/
CATEGORIES:Višja strokovna šola
ORGANIZER;CN="T%C5%A0C%20Maribor%2C%20Vi%C5%A1ja%20strokovna%20%C5%A1ola":MAILTO:referat@tscmb.si
END:VEVENT
END:VCALENDAR