BEGIN:VCALENDAR
VERSION:2.0
PRODID:-//TŠC Maribor - ECPv4.5.13//NONSGML v1.0//EN
CALSCALE:GREGORIAN
METHOD:PUBLISH
X-WR-CALNAME:TŠC Maribor
X-ORIGINAL-URL:https://www.tscmb.si/en
X-WR-CALDESC:Events for TŠC Maribor
BEGIN:VEVENT
DTSTART;TZID=UTC+2:20240418T060000
DTEND;TZID=UTC+2:20240419T230000
DTSTAMP:20260421T042530
CREATED:20240408T052707Z
LAST-MODIFIED:20240408T052707Z
UID:25661-1713420000-1713567600@www.tscmb.si
SUMMARY:(Slovenian) Strokovna ekskurzija: podjetji Audi Hungaria\, Volkswagen Slovakia in mesto Bratislava
DESCRIPTION:Sorry\, this entry is only available in Slovenian. \n
URL:https://www.tscmb.si/en/dogodek/strokovna-ekskurzija-podjetji-audi-hungaria-volkswagen-slovakia-in-mesto-bratislava/
CATEGORIES:Srednja šola
ORGANIZER;CN="T%C5%A0C%20Maribor":MAILTO:info@tscmb.si
END:VEVENT
END:VCALENDAR