BEGIN:VCALENDAR
VERSION:2.0
PRODID:-//TŠC Maribor - ECPv4.5.13//NONSGML v1.0//EN
CALSCALE:GREGORIAN
METHOD:PUBLISH
X-WR-CALNAME:TŠC Maribor
X-ORIGINAL-URL:https://www.tscmb.si/en
X-WR-CALDESC:Events for TŠC Maribor
BEGIN:VEVENT
DTSTART;TZID=UTC+2:20240116T074000
DTEND;TZID=UTC+2:20240116T140000
DTSTAMP:20260420T051522
CREATED:20240107T110503Z
LAST-MODIFIED:20240116T090603Z
UID:24720-1705390800-1705413600@www.tscmb.si
SUMMARY:(Slovenian) Strokovna ekskurzija – Rimac Automobili
DESCRIPTION:Sorry\, this entry is only available in Slovenian. \n
URL:https://www.tscmb.si/en/dogodek/strokovna-ekskurzija-rimac-automobili/
CATEGORIES:Srednja šola
ORGANIZER;CN="T%C5%A0C%20Maribor":MAILTO:info@tscmb.si
END:VEVENT
END:VCALENDAR