BEGIN:VCALENDAR
VERSION:2.0
PRODID:-//TŠC Maribor - ECPv4.5.13//NONSGML v1.0//EN
CALSCALE:GREGORIAN
METHOD:PUBLISH
X-WR-CALNAME:TŠC Maribor
X-ORIGINAL-URL:https://www.tscmb.si/en
X-WR-CALDESC:Events for TŠC Maribor
BEGIN:VEVENT
DTSTART;TZID=UTC+2:20240607T143000
DTEND;TZID=UTC+2:20240607T190000
DTSTAMP:20260420T190905
CREATED:20240508T054622Z
LAST-MODIFIED:20240531T092112Z
UID:25849-1717770600-1717786800@www.tscmb.si
SUMMARY:(Slovenian) TVU 2024 - Pohod na Žavcarjev vrh
DESCRIPTION:Sorry\, this entry is only available in Slovenian. \n
URL:https://www.tscmb.si/en/dogodek/tvu-2024-pohod-na-zavcarjev-vrh/
CATEGORIES:MIC
ORGANIZER;CN="T%C5%A0C%20Maribor":MAILTO:info@tscmb.si
END:VEVENT
END:VCALENDAR