BEGIN:VCALENDAR
VERSION:2.0
PRODID:-//TŠC Maribor - ECPv4.5.13//NONSGML v1.0//EN
CALSCALE:GREGORIAN
METHOD:PUBLISH
X-WR-CALNAME:TŠC Maribor
X-ORIGINAL-URL:https://www.tscmb.si/en
X-WR-CALDESC:Events for TŠC Maribor
BEGIN:VEVENT
DTSTART;TZID=UTC+2:20241023T081500
DTEND;TZID=UTC+2:20241023T100000
DTSTAMP:20260420T212453
CREATED:20241007T081911Z
LAST-MODIFIED:20241007T081911Z
UID:26742-1729671300-1729677600@www.tscmb.si
SUMMARY:(Slovenian) Učenje učenja (1.a/2\, 1.c/1)
DESCRIPTION:Sorry\, this entry is only available in Slovenian. \n
URL:https://www.tscmb.si/en/dogodek/ucenje-ucenja-1-a-2-1-c-1/
CATEGORIES:Srednja šola
ORGANIZER;CN="T%C5%A0C%20Maribor":MAILTO:info@tscmb.si
END:VEVENT
END:VCALENDAR